BEGIN:VCALENDAR
VERSION:2.0
PRODID:-//ChamberMaster//Event Calendar 2.0//EN
METHOD:PUBLISH
X-PUBLISHED-TTL:P3D
REFRESH-INTERVAL:P3D
CALSCALE:GREGORIAN
BEGIN:VEVENT
DTSTART:20210707T130000Z
DTEND:20210707T140000Z
X-MICROSOFT-CDO-ALLDAYEVENT:FALSE
SUMMARY:SMC July Meeting In-Person & Zoom - OPEN TO ALL GOBA
DESCRIPTION:Get Updates and See How You Can Get Involved with: MAJOR ACHIEVEMENT AWARDS\, New - SMC ROUNTABLE\, LEADERSHIP SMC\, Fall NEW HOME EXPO and more.\n\nOpen to Sales & Marketing Council Members and all GOBA members - come share your industry news\, exchange ideas with colleagues\, take part in events. Your feedback is welcome!\n\n\n\nNo registration needed.\n\n \nWednesday\, July 7  - JOIN US\n\nOptional VIRTUAL NETWORKING 8:45-9AM  / MEETING 9-10am\n \n\nIn-Person Meeting at GOBA - 1953 Clayton Heritage Way\, Maitland\, FL 32751\n\nor\n\nZoom In: email cherry@greaterorlandoba.com for Zoom Login
X-ALT-DESC;FMTTYPE=text/html:<br />\n<span style="font-size:12px\;"><span style="font-family:tahoma\;">Get Updates and See How You Can Get Involved with: <strong>MAJOR ACHIEVEMENT AWARDS\, <span style="color:#FF0000\;">New </span>- SMC ROUNTABLE\, LEADERSHIP SMC\, Fall NEW HOME EXPO </strong>and more.<br />\n<strong style="font-family: tahoma\; font-size: 12px\;">Open to Sales &amp\; Marketing Council Members and all GOBA members</strong>&nbsp\;-&nbsp\;come share your industry news\, exchange ideas with colleagues\, take part in events. Your feedback is welcome!<br />\n<br />\nNo registration needed.</span></span><br />\n&nbsp\;\n<div style="text-align: center\;"><span style="font-size:12px\;"><span style="font-family:tahoma\;"><strong><span style="color:#FF0000\;">Wednesday\, July 7&nbsp\;</span> - JOIN US<br />\n<u>Optional <span style="color:#FF0000\;">VIRTUAL NETWORKING</span></u><span style="color:#FF0000\;"> 8:45-9AM&nbsp\;</span> / <span style="color:#FF0000\;"><u>MEETING</u> 9-10am</span></strong></span></span></div>\n&nbsp\;\n\n<div style="background: rgb(238\, 238\, 238)\; border: 1px solid rgb(204\, 204\, 204)\; padding: 5px 10px\; text-align: center\;"><span style="font-size:12px\;"><span style="font-family:tahoma\;"><strong><span style="color:#FF0000\;">In-Person Meeting </span></strong>at GOBA - 1953 Clayton Heritage Way\, Maitland\, FL 32751<br />\n<strong>or<br />\n<span style="color:#FF0000\;"><span style="background-color:#FFFF00\;">Zoom In</span></span><span style="background-color:#FFFF00\;">: </span></strong><span style="background-color:#FFFF00\;">email </span><a href="mailto:cherry@greaterorlandoba.com?subject=SMC%20Nov.%20Mtg%20Zoom%20Link"><span style="background-color:#FFFF00\;">cherry@greaterorlandoba.com</span></a><span style="background-color:#FFFF00\;"> for Zoom Login</span></span></span></div>\n
LOCATION:Wednesday\, July 7 - JOIN US: Optional VIRTUAL NETWORKING 8:45-9AM / MEETING 9-10am In-Person Meeting at GOBA - 1953 Clayton Heritage Way\, Maitland\, FL 32751 or Zoom In: EMAIL cherry@greaterorlandoba.com for Zoom Login Link
UID:e.9318.6426
SEQUENCE:3
DTSTAMP:20260420T184227Z
URL:https://members.greaterorlandoba.com/events/details/smc-july-meeting-in-person-zoom-open-to-all-goba-6426
END:VEVENT

END:VCALENDAR
