BEGIN:VCALENDAR
VERSION:2.0
PRODID:-//ChamberMaster//Event Calendar 2.0//EN
METHOD:PUBLISH
X-PUBLISHED-TTL:P3D
REFRESH-INTERVAL:P3D
CALSCALE:GREGORIAN
BEGIN:VEVENT
DTSTART:20181205T140000Z
DTEND:20181205T150000Z
X-MICROSOFT-CDO-ALLDAYEVENT:FALSE
SUMMARY:SMC Membership Committee Meeting
DESCRIPTION:Open to Sales & Marketing Council Members - come share your industry news\, exchange ideas with colleagues\, take part in events. Your feedback is welcome!\n\n\n\nThe Greater Orlando Builders Association Sales and Marketing Council is a network of home building industry leaders and professionals that come from all segments of our industry. Advance your career by getting involved with this dynamic group of individuals.\n\n\n\nNon SMC Members are encouraged to attend one meeting without joining the council.  After the one complementary meeting\, SMC Membership is required to attend Membership meetings.  Find out more about becoming an SMC Member here.
X-ALT-DESC;FMTTYPE=text/html:<p style="box-sizing: border-box\; margin: 0px 0px 10px\; color: rgb(51\, 51\, 51)\; font-family: 'Merriweather Sans'\, sans-serif\; font-size: 14px\; font-style: normal\; font-variant: normal\; font-weight: normal\; letter-spacing: normal\; line-height: 16px\; orphans: auto\; text-align: start\; text-indent: 0px\; text-transform: none\; white-space: normal\; widows: 1\; word-spacing: 0px\; -webkit-text-stroke-width: 0px\;"><span style="font-size:12px\;"><span style="font-family:tahoma\;"><strong>Open to Sales &amp\; Marketing Council Members</strong> - come share your industry news\, exchange ideas with colleagues\, take part in events. Your feedback is welcome!<br />\n<br />\nThe Greater Orlando Builders Association Sales and Marketing Council is a network of home building industry leaders and professionals that come from all segments of our industry. Advance your career by getting involved with this dynamic group of individuals.<br />\n<br />\n<span style="color: rgb(51\, 51\, 51)\; widows: 1\; line-height: 16px\; background-color: rgb(255\, 255\, 255)\;">Non SMC Members are encouraged to attend one meeting without joining the council. &nbsp\;After the one complementary meeting\, SMC Membership is required to attend Membership meetings. &nbsp\;Find out more about becoming an SMC Member&nbsp\;</span><a href="http://www.greaterorlandoba.com/sales-marketing-council" style="color: rgb(7\, 130\, 193)\; font-family: &quot\;Merriweather Sans&quot\;\, sans-serif\; font-size: 14px\; widows: 1\; line-height: 16px\; background-color: rgb(255\, 255\, 255)\;">here</a><span style="color: rgb(51\, 51\, 51)\; widows: 1\; line-height: 16px\; background-color: rgb(255\, 255\, 255)\;">.</span></span></span></p>\n
LOCATION:ODC Great Hall 1953 Clayton Heritage Way Maitland\, FL 32751 For GPS purposes\, use 1000 Sanford Ave
UID:e.9318.4756
SEQUENCE:3
DTSTAMP:20260420T083558Z
URL:https://members.greaterorlandoba.com/events/details/smc-membership-committee-meeting-12-05-2018-4756
END:VEVENT

END:VCALENDAR
