BEGIN:VCALENDAR
VERSION:2.0
PRODID:-//ChamberMaster//Event Calendar 2.0//EN
METHOD:PUBLISH
X-PUBLISHED-TTL:P3D
REFRESH-INTERVAL:P3D
CALSCALE:GREGORIAN
BEGIN:VEVENT
DTSTART:20191002T123000Z
DTEND:20191002T140000Z
X-MICROSOFT-CDO-ALLDAYEVENT:FALSE
SUMMARY:SMC Membership Committee Meeting
DESCRIPTION:Open to Sales & Marketing Council Members - come share your industry news\, exchange ideas with colleagues\, take part in events. Your feedback is welcome!\n\n\n\nMEETING: 9-10am\n\nOPTIONAL: 8:30-9am Breakfast Networking SMC Warm Up brought to you by SUNTRUST MORTGAGE   \n\nIf you'd like to provide breakfast for an upcoming SMC Monthly Meeting\, contact cherry@greaterorlandoba.com.\n\n\n\nThe Greater Orlando Builders Association Sales and Marketing Council is a network of home building industry leaders and professionals that come from all segments of our industry. Advance your career by getting involved with this dynamic group of individuals.\n\n\n\nNon SMC Members are encouraged to attend one meeting without joining the council.  After the one complementary meeting\, SMC Membership is required to attend Membership meetings.  Find out more about becoming an SMC Member here.
X-ALT-DESC;FMTTYPE=text/html:<strong style="font-family: tahoma\; font-size: 12px\;"><u>Open to Sales &amp\; Marketing Council Members</u>&nbsp\;-&nbsp\;</strong><span style="font-family: tahoma\; font-size: 12px\;">come share your industry news\, exchange ideas with colleagues\, take part in events. Your feedback is welcome!</span><br style="font-family: tahoma\; font-size: 12px\;" />\n<br />\n<strong><span style="font-family:tahoma\;">MEETING:</span></strong> 9-10am<br style="font-family: tahoma\; font-size: 12px\;" />\n<strong style="font-family: tahoma\; font-size: 12px\;">OPTIONAL: 8:30-9am&nbsp\;<span style="color: rgb(178\, 34\, 34)\;">Breakfast Networking</span>&nbsp\;<span style="color: rgb(178\, 34\, 34)\;">SMC Warm Up</span>&nbsp\;</strong><span style="color:#000000\;">brought to you by SUNTRUST MORTGAGE</span><strong style="font-family: tahoma\; font-size: 12px\;"><span style="color:#000000\;">&nbsp\; &nbsp\;</span></strong><br />\n<u><span style="color:#000000\;">I</span></u><u style="font-family: tahoma\; font-size: 12px\;">f you&#39\;d like to provide breakfast for an upcoming SMC Monthly Meeting</u><span style="font-family: tahoma\; font-size: 12px\;">\, contact&nbsp\;</span><a href="http://cherry@greaterorlandoba.com" style="font-family: tahoma\; font-size: 12px\;">cherry@greaterorlandoba.com</a><span style="font-family: tahoma\; font-size: 12px\;">.</span><br style="font-family: tahoma\; font-size: 12px\;" />\n<br />\n<span style="font-family: tahoma\; font-size: 12px\; widows: 1\;">The Greater Orlando Builders Association Sales and Marketing Council is a network of home building industry leaders and professionals that come from all segments of our industry. Advance your career by getting involved with this dynamic group of individuals.</span><br style="font-family: tahoma\; font-size: 12px\; widows: 1\;" />\n<br style="font-family: tahoma\; font-size: 12px\; widows: 1\;" />\n<span style="font-family: tahoma\; font-size: 12px\; widows: 1\; line-height: 16px\;">Non SMC Members are encouraged to attend one meeting without joining the council. &nbsp\;After the one complementary meeting\, SMC Membership is required to attend Membership meetings. &nbsp\;Find out more about becoming an SMC Member&nbsp\;</span><a font-size:="" href="http://www.greaterorlandoba.com/sales-marketing-council" line-height:="" merriweather="" style="widows: 1\; font-family: ">here</a><span style="font-family: tahoma\; font-size: 12px\; widows: 1\; line-height: 16px\;">.</span>
LOCATION:GOBA Boardroom 1953 Clayton Heritage Way Maitland\, FL 32751
UID:e.9318.5527
SEQUENCE:3
DTSTAMP:20260419T131251Z
URL:https://members.greaterorlandoba.com/events/details/smc-membership-committee-meeting-5527
END:VEVENT

END:VCALENDAR
