BEGIN:VCALENDAR
VERSION:2.0
PRODID:-//ChamberMaster//Event Calendar 2.0//EN
METHOD:PUBLISH
X-PUBLISHED-TTL:P3D
REFRESH-INTERVAL:P3D
CALSCALE:GREGORIAN
BEGIN:VEVENT
DTSTART:20180307T140000Z
DTEND:20180307T150000Z
X-MICROSOFT-CDO-ALLDAYEVENT:FALSE
SUMMARY:SMC Membership Committee Meeting - CANCELLED
DESCRIPTION:This March SMC Committee Meeting is cancelled and will resume April 4th.\n\n\n\n\n\nThe Greater Orlando Builders Association Sales and Marketing Council is a network of home building industry leaders and professionals that come from all segments of our industry. Advance your career by getting involved with this dynamic group of individuals.\n\n\n\nNon SMC Members are encouraged to attend one meeting without joining the council.  After the one complementary meeting\, SMC Membership is required to attend Membership meetings.  Find out more about becoming an SMC Member here.
X-ALT-DESC;FMTTYPE=text/html:<p style="box-sizing: border-box\; margin: 0px 0px 10px\; color: rgb(51\, 51\, 51)\; font-family: 'Merriweather Sans'\, sans-serif\; font-size: 14px\; font-style: normal\; font-variant: normal\; font-weight: normal\; letter-spacing: normal\; line-height: 16px\; orphans: auto\; text-align: start\; text-indent: 0px\; text-transform: none\; white-space: normal\; widows: 1\; word-spacing: 0px\; -webkit-text-stroke-width: 0px\;"><strong>This March SMC Committee Meeting is cancelled and will resume April 4th.</strong><br />\n<br />\n<br />\nThe Greater Orlando Builders Association Sales and Marketing Council is a network of home building industry leaders and professionals that come from all segments of our industry. Advance your career by getting involved with this dynamic group of individuals.<br />\n<br />\n<span style="color: rgb(51\, 51\, 51)\; font-family: &quot\;Merriweather Sans&quot\;\, sans-serif\; font-size: 14px\; widows: 1\; line-height: 16px\; background-color: rgb(255\, 255\, 255)\;">Non SMC Members are encouraged to attend one meeting without joining the council. &nbsp\;After the one complementary meeting\, SMC Membership is required to attend Membership meetings. &nbsp\;Find out more about becoming an SMC Member&nbsp\;</span><a href="http://www.greaterorlandoba.com/sales-marketing-council" style="color: rgb(7\, 130\, 193)\; font-family: &quot\;Merriweather Sans&quot\;\, sans-serif\; font-size: 14px\; widows: 1\; line-height: 16px\; background-color: rgb(255\, 255\, 255)\;">here</a><span style="color: rgb(51\, 51\, 51)\; font-family: &quot\;Merriweather Sans&quot\;\, sans-serif\; font-size: 14px\; widows: 1\; line-height: 16px\; background-color: rgb(255\, 255\, 255)\;">.</span></p>\n
LOCATION:ODC Great Hall 1953 Clayton Heritage Way Maitland\, FL 32751 For GPS purposes\, use 1000 Sanford Ave
UID:e.9318.4747
SEQUENCE:3
DTSTAMP:20260419T175606Z
URL:https://members.greaterorlandoba.com/events/details/smc-membership-committee-meeting-cancelled-4747
END:VEVENT

END:VCALENDAR
