BEGIN:VCALENDAR
VERSION:2.0
PRODID:-//ChamberMaster//Event Calendar 2.0//EN
METHOD:PUBLISH
X-PUBLISHED-TTL:P3D
REFRESH-INTERVAL:P3D
CALSCALE:GREGORIAN
BEGIN:VEVENT
DTSTART;VALUE=DATE:20200304
DTEND;VALUE=DATE:20200305
TRANSP:TRANSPARENT
X-MICROSOFT-CDO-ALLDAYEVENT:TRUE
SUMMARY:SMC Membership Committee Meeting - CANCELLED
DESCRIPTION:Due to the SMC Home Expo\, this month's Committee Meeting has been cancelled. Join us in April!
X-ALT-DESC;FMTTYPE=text/html:Due to the SMC Home Expo\, this month&#39\;s Committee Meeting has been cancelled. Join us in April!
LOCATION:
UID:e.9318.5794
SEQUENCE:3
DTSTAMP:20260419T210719Z
URL:https://members.greaterorlandoba.com/events/details/smc-membership-committee-meeting-cancelled-5794
END:VEVENT

END:VCALENDAR
