BEGIN:VCALENDAR
VERSION:2.0
PRODID:-//ChamberMaster//Event Calendar 2.0//EN
METHOD:PUBLISH
X-PUBLISHED-TTL:P3D
REFRESH-INTERVAL:P3D
CALSCALE:GREGORIAN
BEGIN:VEVENT
DTSTART:20180905T130000Z
DTEND:20180905T140000Z
X-MICROSOFT-CDO-ALLDAYEVENT:FALSE
SUMMARY:SMC Membership Committee Meeting - OPEN TO ALL GOBA MEMBERS
DESCRIPTION:SMC Membership Committee Meeting - OPEN TO ALL GOBA MEMBERS\n\nGOBA ODC Great Hall\n\n\n	8:30am - SMC Warm Up Networking Breakfast - OPTIONAL\n	9am-10am - SMC Meeting\n\n\n\n\nThe Greater Orlando Builders Association Sales and Marketing Council is a network of home building industry leaders and professionals that come from all segments of our industry. Advance your career by getting involved with this dynamic group of individuals.\n\n\n\nNon SMC Members are encouraged to attend one meeting without joining the council.  After the one complementary meeting\, SMC Membership is required to attend Membership meetings.  Find out more about becoming an SMC Member here.
X-ALT-DESC;FMTTYPE=text/html:<p style="box-sizing: border-box\; margin: 0px 0px 10px\; color: rgb(51\, 51\, 51)\; font-family: 'Merriweather Sans'\, sans-serif\; font-size: 14px\; font-style: normal\; font-variant: normal\; font-weight: normal\; letter-spacing: normal\; line-height: 16px\; orphans: auto\; text-align: start\; text-indent: 0px\; text-transform: none\; white-space: normal\; widows: 1\; word-spacing: 0px\; -webkit-text-stroke-width: 0px\;"><span style="font-size:12px\;">SMC Membership Committee Meeting - OPEN TO ALL GOBA MEMBERS<br />\nGOBA ODC Great Hall</span></p>\n\n<ul>\n	<li><span style="font-size:12px\;"><span style="color:black\;">8:30am - SMC Warm Up Networking Breakfast - <u><strong>OPTIONAL</strong></u></span></span></li>\n	<li><span style="font-size:12px\;"><span style="color:black\;"><span style="color:black\;">9am-10am - SMC Meeting</span></span></span></li>\n</ul>\n\n<p style="box-sizing: border-box\; margin: 0px 0px 10px\; color: rgb(51\, 51\, 51)\; font-family: 'Merriweather Sans'\, sans-serif\; font-size: 14px\; font-style: normal\; font-variant: normal\; font-weight: normal\; letter-spacing: normal\; line-height: 16px\; orphans: auto\; text-align: start\; text-indent: 0px\; text-transform: none\; white-space: normal\; widows: 1\; word-spacing: 0px\; -webkit-text-stroke-width: 0px\;"><br />\n<span style="font-size:12px\;">The Greater Orlando Builders Association Sales and Marketing Council is a network of home building industry leaders and professionals that come from all segments of our industry. Advance your career by getting involved with this dynamic group of individuals.<br />\n<br />\n<span background-color:="" font-size:="" line-height:="" merriweather="" style="color: rgb(51\, 51\, 51)\; font-family: " widows:="">Non SMC Members are encouraged to attend one meeting without joining the council. &nbsp\;After the one complementary meeting\, SMC Membership is required to attend Membership meetings. &nbsp\;Find out more about becoming an SMC Member&nbsp\;</span><a background-color:="" font-size:="" href="http://www.greaterorlandoba.com/sales-marketing-council" line-height:="" merriweather="" style="color: rgb(7\, 130\, 193)\; font-family: " widows:="">here</a><span background-color:="" font-size:="" line-height:="" merriweather="" style="color: rgb(51\, 51\, 51)\; font-family: " widows:="">.</span></span></p>\n
LOCATION:ODC Great Hall 1953 Clayton Heritage Way Maitland\, FL 32751 For GPS purposes\, use 1000 Sanford Ave
UID:e.9318.4753
SEQUENCE:3
DTSTAMP:20260420T033013Z
URL:https://members.greaterorlandoba.com/events/details/smc-membership-committee-meeting-open-to-all-goba-members-4753
END:VEVENT

END:VCALENDAR
