BEGIN:VCALENDAR
VERSION:2.0
PRODID:-//ChamberMaster//Event Calendar 2.0//EN
METHOD:PUBLISH
X-PUBLISHED-TTL:P3D
REFRESH-INTERVAL:P3D
CALSCALE:GREGORIAN
BEGIN:VEVENT
DTSTART:20200205T133000Z
DTEND:20200205T150000Z
X-MICROSOFT-CDO-ALLDAYEVENT:FALSE
SUMMARY:SMC Membership Meeting - OPEN TO ALL GOBA MEMBERS
DESCRIPTION:If you're thinking of joining the SMC - find out all about it!\n\nOpen to Sales & Marketing Council Members - come share your industry news\, exchange ideas with colleagues\, take part in events. Your feedback is welcome!\nMEETING: 9am-10am\n\nOPTIONAL: 8:30-9am Breakfast Networking SMC Warm Up \n   If you'd like to provide breakfast for an upcoming SMC Monthly Meeting\, contact cherry@greaterorlandoba.com.\n\n\n\nThe Greater Orlando Builders Association Sales and Marketing Council is a network of home building industry leaders and professionals that come from all segments of our industry. Advance your career by getting involved with this dynamic group of individuals.\n\n\n\nNon SMC Members are encouraged to attend one meeting without joining the council.  After the one complementary meeting\, SMC Membership is required to attend Membership meetings.  Find out more about becoming an SMC Member here.
X-ALT-DESC;FMTTYPE=text/html:<span style="font-size:12px\;"><span style="font-family:tahoma\;"><strong>If you&#39\;re thinking of joining the SMC - find out all about it!<br />\nOpen to Sales &amp\; Marketing Council Members</strong>&nbsp\;-&nbsp\;come share your industry news\, exchange ideas with colleagues\, take part in events. Your feedback is welcome!</span></span>\n<div style="margin-left: 40px\;"><span style="font-size:12px\;"><span style="font-family:tahoma\;">MEETING: 9am-10am<br />\nOPTIONAL: 8:30-9am&nbsp\;<span style="color:firebrick\;">Breakfast Networking</span>&nbsp\;<span style="color:firebrick\;">SMC Warm Up</span>&nbsp\;</span></span></div>\n<span style="font-size:12px\;"><span style="font-family:tahoma\;"><strong><span style="color:black\;">&gt\;&gt\; </span></strong><u><span style="color:black\;">I</span>f you&#39\;d like to provide breakfast for an upcoming SMC Monthly Meeting</u>\, contact&nbsp\;<a href="http://cherry@greaterorlandoba.com">cherry@greaterorlandoba.com</a>.<br />\n<br />\n<span style="widows: 1\;">The Greater Orlando Builders Association Sales and Marketing Council is a network of home building industry leaders and professionals that come from all segments of our industry. Advance your career by getting involved with this dynamic group of individuals.</span><br style="font-family: tahoma\; font-size: 12px\; widows: 1\;" />\n<br style="font-family: tahoma\; font-size: 12px\; widows: 1\;" />\n<span style="widows: 1\; line-height: 16px\;">Non SMC Members are encouraged to attend one meeting without joining the council. &nbsp\;After the one complementary meeting\, SMC Membership is required to attend Membership meetings. &nbsp\;Find out more about becoming an SMC Member&nbsp\;</span><a font-size:="" href="http://www.greaterorlandoba.com/sales-marketing-council" line-height:="" merriweather="" style="widows: 1\; font-family: ">here</a><span style="widows: 1\; line-height: 16px\;">.</span></span></span>
LOCATION:ODC Great Hall 1953 Clayton Heritage Way Maitland\, FL 32751
UID:e.9318.5793
SEQUENCE:3
DTSTAMP:20260419T192427Z
URL:https://members.greaterorlandoba.com/events/details/smc-membership-meeting-open-to-all-goba-members-5793
END:VEVENT

END:VCALENDAR
