BEGIN:VCALENDAR
VERSION:2.0
PRODID:-//ChamberMaster//Event Calendar 2.0//EN
METHOD:PUBLISH
X-PUBLISHED-TTL:P3D
REFRESH-INTERVAL:P3D
CALSCALE:GREGORIAN
BEGIN:VEVENT
DTSTART:20201007T140000Z
DTEND:20201007T150000Z
X-MICROSOFT-CDO-ALLDAYEVENT:FALSE
SUMMARY:SMC Membership Zoom Meeting Oct. - CANCELLED
DESCRIPTION:If you're thinking of joining the SMC - find out all about it!\n\n\n\nFind out about MAJORS\, SamTram\, Quarterly Breakfasts and more!\n\n\n\nOpen to Sales & Marketing Council Members - come share your industry news\, exchange ideas with colleagues\, take part in events. Your feedback is welcome!\n\n\nWednesday\, October 7\, 2020  /  10-11am\n\n\n\nJoin Zoom Meeting: https://us02web.zoom.us/j/81863757246?pwd=OURNTnFlcEh1VlJqbW9ybVRMYndlZz09\n\nMeeting ID: 818 6375 7246  /  Passcode: 033614\n\n \n\nOne tap mobile\n\n+13017158592\,\,81863757246#\,\,\,\,\,\,0#\,\,033614# US (Germantown)\n\n+13126266799\,\,81863757246#\,\,\,\,\,\,0#\,\,033614# US (Chicago)\n\n\n\nDial by your location: +1 929 205 6099 US (New York)\n\nMeeting ID: 818 6375 7246   /  Passcode: 033614\n\nFind your local number: https://us02web.zoom.us/u/keuJb6JPc3\n\n\n\n\nThe Greater Orlando Builders Association Sales and Marketing Council is a network of home building industry leaders and professionals that come from all segments of our industry. Advance your career by getting involved with this dynamic group of individuals.\n\n\n\nNon SMC Members are encouraged to attend one meeting without joining the council.  After the one complementary meeting\, SMC Membership is required to attend Membership meetings.  Find out more about becoming an SMC Member here.
X-ALT-DESC;FMTTYPE=text/html:<span style="font-size:12px\;"><span style="font-family:tahoma\;"><strong>If you&#39\;re thinking of joining the SMC - find out all about it!<br />\n<br />\nFind out about MAJORS\, SamTram\, Quarterly Breakfasts and more!<br />\n<br />\nOpen to Sales &amp\; Marketing Council Members</strong>&nbsp\;-&nbsp\;come share your industry news\, exchange ideas with colleagues\, take part in events. Your feedback is welcome!</span></span>\n<div style="margin-left: 40px\;"><br />\n<strong>Wednesday\, October 7\, 2020&nbsp\; /&nbsp\; 10-11am</strong><br />\n<br />\n<span style="font-size:12px\;"><span style="font-family:tahoma\;"><strong>Join Zoom Meeting</strong>:&nbsp\;<a href="https://us02web.zoom.us/j/81863757246?pwd=OURNTnFlcEh1VlJqbW9ybVRMYndlZz09">https://us02web.zoom.us/j/81863757246?pwd=OURNTnFlcEh1VlJqbW9ybVRMYndlZz09</a><br />\n<strong>Meeting ID:</strong> 818 6375 7246&nbsp\; /&nbsp\;&nbsp\;<strong>Passcode:</strong> 033614<br />\n&#8203\;<br />\nOne tap mobile<br />\n+13017158592\,\,81863757246#\,\,\,\,\,\,0#\,\,033614# US (Germantown)<br />\n+13126266799\,\,81863757246#\,\,\,\,\,\,0#\,\,033614# US (Chicago)<br />\n<br />\nDial by your location:&nbsp\;+1 929 205 6099 US (New York)<br />\nMeeting ID: 818 6375 7246&nbsp\; &nbsp\;/&nbsp\;&nbsp\;Passcode: 033614<br />\nFind your local number: https://us02web.zoom.us/u/keuJb6JPc3</span></span></div>\n<br />\n<br />\n<span style="font-size:12px\;"><span style="font-family:tahoma\;"><span style="widows: 1\;">The Greater Orlando Builders Association Sales and Marketing Council is a network of home building industry leaders and professionals that come from all segments of our industry. Advance your career by getting involved with this dynamic group of individuals.</span><br style="font-family: tahoma\; font-size: 12px\; widows: 1\;" />\n<br style="font-family: tahoma\; font-size: 12px\; widows: 1\;" />\n<span style="widows: 1\; line-height: 16px\;">Non SMC Members are encouraged to attend one meeting without joining the council. &nbsp\;After the one complementary meeting\, SMC Membership is required to attend Membership meetings. &nbsp\;Find out more about becoming an SMC Member&nbsp\;</span><a font-size:="" href="http://www.greaterorlandoba.com/sales-marketing-council" line-height:="" merriweather="" style="widows: 1\; font-family: ">here</a><span style="widows: 1\; line-height: 16px\;">.</span></span></span>
LOCATION:GOBA SMC Monthly Meeting - Oct. 2020 / Oct 7\, 2020 10:00 AM Eastern Time (US and Canada) Join Zoom Meeting: https://us02web.zoom.us/j/81863757246?pwd=OURNTnFlcEh1VlJqbW9ybVRMYndlZz09 Meeting ID: 818 6375 7246 / Passcode: 033614 One tap mobile +13017158592\,\,81863757246#\,\,\,\,\,\,0#\,\,033614# US (Germantown) +13126266799\,\,81863757246#\,\,\,\,\,\,0#\,\,033614# US (Chicago) Dial by your location: +1 929 205 6099 US (New York) Meeting ID: 818 6375 7246 / Passcode: 033614 Find your local number: https://us02web.zoom.us/u/keuJb6JPc3
UID:e.9318.6163
SEQUENCE:3
DTSTAMP:20260420T083333Z
URL:https://members.greaterorlandoba.com/events/details/smc-membership-zoom-meeting-oct-cancelled-6163
END:VEVENT

END:VCALENDAR
