BEGIN:VCALENDAR
VERSION:2.0
PRODID:-//ChamberMaster//Event Calendar 2.0//EN
METHOD:PUBLISH
X-PUBLISHED-TTL:P3D
REFRESH-INTERVAL:P3D
CALSCALE:GREGORIAN
BEGIN:VEVENT
DTSTART:20200805T140000Z
DTEND:20200805T150000Z
X-MICROSOFT-CDO-ALLDAYEVENT:FALSE
SUMMARY:SMC Membership Zoom Meeting - OPEN TO ALL GOBA MEMBERS
DESCRIPTION:If you're thinking of joining the SMC - find out all about it!\n\nOpen to Sales & Marketing Council Members - come share your industry news\, exchange ideas with colleagues\, take part in events. Your feedback is welcome!\n\n\nWednesday\, July 1\, 2020  /  10-11am\n\n\n\nJoin Zoom Meeting - https://us02web.zoom.us/j/82122506364?pwd=cDRtMFhPSWV1L0Rjem0zTU1TczFwdz09\n\nMeeting ID: 821 2250 6364  /  Password: 277441\n\n \n\nOne tap mobile" +13017158592\,\,82122506364#\,\,\,\,0#\,\,277441# US (Germantown)  /  +13126266799\,\,82122506364#\,\,\,\,0#\,\,277441# US (Chicago)\n\nDial by your location\;        +1 929 205 6099 US (New York)\n\nMeeting ID: 821 2250 6364  /  Password: 277441\n\nFind your local number: https://us02web.zoom.us/u/kbsBeHdoYm\n\n\n\n\nThe Greater Orlando Builders Association Sales and Marketing Council is a network of home building industry leaders and professionals that come from all segments of our industry. Advance your career by getting involved with this dynamic group of individuals.\n\n\n\nNon SMC Members are encouraged to attend one meeting without joining the council.  After the one complementary meeting\, SMC Membership is required to attend Membership meetings.  Find out more about becoming an SMC Member here.
X-ALT-DESC;FMTTYPE=text/html:<span style="font-size:12px\;"><span style="font-family:tahoma\;"><strong>If you&#39\;re thinking of joining the SMC - find out all about it!<br />\nOpen to Sales &amp\; Marketing Council Members</strong>&nbsp\;-&nbsp\;come share your industry news\, exchange ideas with colleagues\, take part in events. Your feedback is welcome!</span></span>\n<div style="margin-left: 40px\;"><br />\n<strong>Wednesday\, July 1\, 2020&nbsp\; /&nbsp\; 10-11am<br />\n<br />\n<span style="font-size:12px\;"><span style="font-family:tahoma\;">Join Zoom Meeting </span></span></strong><span style="font-size:12px\;"><span style="font-family:tahoma\;">- <a href="https://us02web.zoom.us/j/82122506364?pwd=cDRtMFhPSWV1L0Rjem0zTU1TczFwdz09">https://us02web.zoom.us/j/82122506364?pwd=cDRtMFhPSWV1L0Rjem0zTU1TczFwdz09</a><br />\n<strong>Meeting ID:</strong> 821 2250 6364&nbsp\; /&nbsp\; <span style="background:yellow\;">Password: 277441</span><br />\n&nbsp\;<br />\nOne tap mobile&rdquo\; +13017158592\,\,82122506364#\,\,\,\,0#\,\,277441# US (Germantown)&nbsp\; /&nbsp\; +13126266799\,\,82122506364#\,\,\,\,0#\,\,277441# US (Chicago)<br />\nDial by your location\;&nbsp\;&nbsp\;&nbsp\;&nbsp\;&nbsp\;&nbsp\;&nbsp\; +1 929 205 6099 US (New York)<br />\nMeeting ID: 821 2250 6364&nbsp\; /&nbsp\; Password: 277441<br />\nFind your local number: <a href="https://us02web.zoom.us/u/kbsBeHdoYm">https://us02web.zoom.us/u/kbsBeHdoYm</a></span></span></div>\n<br />\n<br />\n<span style="font-size:12px\;"><span style="font-family:tahoma\;"><span style="widows: 1\;">The Greater Orlando Builders Association Sales and Marketing Council is a network of home building industry leaders and professionals that come from all segments of our industry. Advance your career by getting involved with this dynamic group of individuals.</span><br style="font-family: tahoma\; font-size: 12px\; widows: 1\;" />\n<br style="font-family: tahoma\; font-size: 12px\; widows: 1\;" />\n<span style="widows: 1\; line-height: 16px\;">Non SMC Members are encouraged to attend one meeting without joining the council. &nbsp\;After the one complementary meeting\, SMC Membership is required to attend Membership meetings. &nbsp\;Find out more about becoming an SMC Member&nbsp\;</span><a font-size:="" href="http://www.greaterorlandoba.com/sales-marketing-council" line-height:="" merriweather="" style="widows: 1\; font-family: ">here</a><span style="widows: 1\; line-height: 16px\;">.</span></span></span>
LOCATION:GOBA SMC Zoom Meeting - Aug 5\, 2020 10:00 AM Eastern Time (US and Canada) Join Zoom Meeting - https://us02web.zoom.us/j/82976912851?pwd=UEpmQ1U2QXJnSFJEalBhMmIwaUNMdz09 Meeting ID: 829 7691 2851 / Password: 595104 One tap mobile +19292056099\,\,82976912851#\,\,\,\,0#\,\,595104# US (New York) +13017158592\,\,82976912851#\,\,\,\,0#\,\,595104# US (Germantown) Dial by your location +1 929 205 6099 US (New York) +1 301 715 8592 US (Germantown) +1 312 626 6799 US (Chicago) +1 669 900 6833 US (San Jose) +1 253 215 8782 US (Tacoma) +1 346 248 7799 US (Houston) Meeting ID: 829 7691 2851 Password: 595104 Find your local number: https://us02web.zoom.us/u/k3erKg2aO
UID:e.9318.6149
SEQUENCE:3
DTSTAMP:20260420T050520Z
URL:https://members.greaterorlandoba.com/events/details/smc-membership-zoom-meeting-open-to-all-goba-members-6149
END:VEVENT

END:VCALENDAR
