BEGIN:VCALENDAR
VERSION:2.0
PRODID:-//ChamberMaster//Event Calendar 2.0//EN
METHOD:PUBLISH
X-PUBLISHED-TTL:P3D
REFRESH-INTERVAL:P3D
CALSCALE:GREGORIAN
BEGIN:VEVENT
DTSTART:20200902T140000Z
DTEND:20200902T150000Z
X-MICROSOFT-CDO-ALLDAYEVENT:FALSE
SUMMARY:SMC Membership Zoom Meeting Sept. - OPEN TO ALL GOBA MEMBERS
DESCRIPTION:If you're thinking of joining the SMC - find out all about it!\n\n\n\nFind out about MAJORS\, SamTram\, Quarterly Breakfasts and more!\n\n\n\nOpen to Sales & Marketing Council Members - come share your industry news\, exchange ideas with colleagues\, take part in events. Your feedback is welcome!\n\n\nWednesday\, Sept. 2\, 2020  /  10-11am\n\n\n\nJoin Zoom Meeting - https://us02web.zoom.us/j/85148507719?pwd=ajdHanE2NnRLS2lzNXBFUzhTWm5sdz09\n\n\n\nMeeting ID: 851 4850 7719  /  Passcode: 814974\n\n\n\nOne tap mobile: +19292056099\,\,85148507719#\,\,\,\,\,\,0#\,\,814974# US (New York)\n\n\n\nDial by your location: +1 929 205 6099 US (New York)\n\nMeeting ID: 851 4850 7719  /  Passcode: 814974\n\nFind your local number: https://us02web.zoom.us/u/kdIT6sXnpj\n\n\n\n\nThe Greater Orlando Builders Association Sales and Marketing Council is a network of home building industry leaders and professionals that come from all segments of our industry. Advance your career by getting involved with this dynamic group of individuals.\n\n\n\nNon SMC Members are encouraged to attend one meeting without joining the council.  After the one complementary meeting\, SMC Membership is required to attend Membership meetings.  Find out more about becoming an SMC Member here.
X-ALT-DESC;FMTTYPE=text/html:<span style="font-size:12px\;"><span style="font-family:tahoma\;"><strong>If you&#39\;re thinking of joining the SMC - find out all about it!<br />\n<br />\nFind out about MAJORS\, SamTram\, Quarterly Breakfasts and more!<br />\n<br />\nOpen to Sales &amp\; Marketing Council Members</strong>&nbsp\;-&nbsp\;come share your industry news\, exchange ideas with colleagues\, take part in events. Your feedback is welcome!</span></span>\n<div style="margin-left: 40px\;"><br />\n<strong>Wednesday\, Sept. 2\, 2020&nbsp\; /&nbsp\; 10-11am</strong><br />\n<br />\n<strong style="font-family: tahoma\; font-size: 12px\;">Join Zoom Meeting&nbsp\;</strong><span style="font-family: tahoma\; font-size: 12px\;">-&nbsp\;</span><a href="https://us02web.zoom.us/j/85148507719?pwd=ajdHanE2NnRLS2lzNXBFUzhTWm5sdz09" style="font-family: tahoma\; font-size: 12px\;">https://us02web.zoom.us/j/85148507719?pwd=ajdHanE2NnRLS2lzNXBFUzhTWm5sdz09</a><br />\n<br style="font-family: tahoma\; font-size: 12px\;" />\n<strong style="font-family: tahoma\; font-size: 12px\;">Meeting ID:</strong><span style="font-family: tahoma\; font-size: 12px\;">&nbsp\;851 4850 7719&nbsp\; /&nbsp\; Passcode: 814974</span><br />\n<br style="font-family: tahoma\; font-size: 12px\;" />\n<span style="font-family: tahoma\; font-size: 12px\;">One tap mobile: +19292056099\,\,85148507719#\,\,\,\,\,\,0#\,\,814974# US (New York)</span><br style="font-family: tahoma\; font-size: 12px\;" />\n<br style="font-family: tahoma\; font-size: 12px\;" />\n<span style="font-family: tahoma\; font-size: 12px\;">Dial by your location: +1 929 205 6099 US (New York)</span><br style="font-family: tahoma\; font-size: 12px\;" />\n<span style="font-family: tahoma\; font-size: 12px\;">Meeting ID: 851 4850 7719&nbsp\; /&nbsp\; Passcode: 814974</span><br style="font-family: tahoma\; font-size: 12px\;" />\n<span style="font-family: tahoma\; font-size: 12px\;">Find your local number: https://us02web.zoom.us/u/kdIT6sXnpj</span></div>\n<br />\n<br />\n<span style="font-size:12px\;"><span style="font-family:tahoma\;"><span style="widows: 1\;">The Greater Orlando Builders Association Sales and Marketing Council is a network of home building industry leaders and professionals that come from all segments of our industry. Advance your career by getting involved with this dynamic group of individuals.</span><br style="font-family: tahoma\; font-size: 12px\; widows: 1\;" />\n<br style="font-family: tahoma\; font-size: 12px\; widows: 1\;" />\n<span style="widows: 1\; line-height: 16px\;">Non SMC Members are encouraged to attend one meeting without joining the council. &nbsp\;After the one complementary meeting\, SMC Membership is required to attend Membership meetings. &nbsp\;Find out more about becoming an SMC Member&nbsp\;</span><a font-size:="" href="http://www.greaterorlandoba.com/sales-marketing-council" line-height:="" merriweather="" style="widows: 1\; font-family: ">here</a><span style="widows: 1\; line-height: 16px\;">.</span></span></span>
LOCATION:GOBA SMC Monthly Committee Meeting / Sept 2\, 2020 10:00 AM Eastern Time (US and Canada) Join Zoom Meeting - https://us02web.zoom.us/j/85148507719?pwd=ajdHanE2NnRLS2lzNXBFUzhTWm5sdz09 Meeting ID: 851 4850 7719 / Passcode: 814974 One tap mobile: +19292056099\,\,85148507719#\,\,\,\,\,\,0#\,\,814974# US (New York) Dial by your location: +1 929 205 6099 US (New York) Meeting ID: 851 4850 7719 / Passcode: 814974 Find your local number: https://us02web.zoom.us/u/kdIT6sXnpj
UID:e.9318.6154
SEQUENCE:3
DTSTAMP:20260420T065017Z
URL:https://members.greaterorlandoba.com/events/details/smc-membership-zoom-meeting-sept-open-to-all-goba-members-6154
END:VEVENT

END:VCALENDAR
