BEGIN:VCALENDAR
VERSION:2.0
PRODID:-//ChamberMaster//Event Calendar 2.0//EN
METHOD:PUBLISH
X-PUBLISHED-TTL:P3D
REFRESH-INTERVAL:P3D
CALSCALE:GREGORIAN
BEGIN:VEVENT
DTSTART:20211006T130000Z
DTEND:20211006T140000Z
X-MICROSOFT-CDO-ALLDAYEVENT:FALSE
SUMMARY:SMC Monthly Committee Meeting
DESCRIPTION:Email cherry@greaterorlandoba.com for Zoom Link.\n\n \n\nLearn more about SMC and its events.
X-ALT-DESC;FMTTYPE=text/html:Email <a href="mailto:cherry@greaterorlandoba.com">cherry@greaterorlandoba.com</a> for Zoom Link.<br />\n&nbsp\;<br />\nLearn more about <a href="http://www.greaterorlandoba.com/sales-marketing-council">SMC</a> and its <a href="http://www.greaterorlandoba.com/smc-events">events</a>.
LOCATION:Zoom Link
UID:e.9318.6457
SEQUENCE:3
DTSTAMP:20260420T143419Z
URL:https://members.greaterorlandoba.com/events/details/smc-monthly-committee-meeting-6457
END:VEVENT

END:VCALENDAR
