BEGIN:VCALENDAR
VERSION:2.0
PRODID:-//ChamberMaster//Event Calendar 2.0//EN
METHOD:PUBLISH
X-PUBLISHED-TTL:P3D
REFRESH-INTERVAL:P3D
CALSCALE:GREGORIAN
BEGIN:VEVENT
DTSTART:20211103T130000Z
DTEND:20211103T140000Z
X-MICROSOFT-CDO-ALLDAYEVENT:FALSE
SUMMARY:SMC Monthly Zoom Committee Meeting - Nov 3
DESCRIPTION:Email cherry@greaterorlandoba.com for Zoom Link.\n\n\n\nSales & Marketing Council Meeting \n\n8:45-9am   OPTIONAL Virtual Networking\n\n9-10am - Council Meeting open to SMC Members\n\n \n\nGet Updates & See How You Can Get Involved with\n\n	MAJOR ACHIEVEMENT AWARDS \n	LEADERSHIP SMC Series \n	Fall NEW HOME EXPO\n	SMC ROUNDTABLE SERIES \n	and more!\n\nWe need your feedback and creative ideas so please join us with your MORNING BEVERAGE of choice!\n\n \n\nLearn more about SMC and its events.
X-ALT-DESC;FMTTYPE=text/html:Email&nbsp\;<a href="mailto:cherry@greaterorlandoba.com">cherry@greaterorlandoba.com</a>&nbsp\;for Zoom Link.<br />\n<br />\n<a href="http://www.greaterorlandoba.com/sales-marketing-council">Sales &amp\; Marketing Council Meeting</a>&nbsp\;<br />\n<span style="background:yellow\;">8:45</span>-9am &ndash\; OPTIONAL Virtual Networking<br />\n9-10am - Council Meeting open to SMC Members<br />\n&nbsp\;<br />\nGet Updates &amp\; See How You Can Get Involved with\n<ul>\n	<li style="margin-left:0in\;"><strong><a href="http://www.greaterorlandoba.com/events/details/major-achievement-awards-2021-awards-entries-deadline-6409">MAJOR ACHIEVEMENT AWARDS</a></strong>&nbsp\;</li>\n	<li style="margin-left:0in\;"><strong>LEADERSHIP SMC</strong> Series&nbsp\;</li>\n	<li style="margin-left:0in\;"><strong>Fall NEW HOME EXPO</strong></li>\n	<li style="margin-left:0in\;"><strong>SMC ROUNDTABLE SERIES </strong></li>\n	<li style="margin-left:0in\;">and more!</li>\n</ul>\nWe need your feedback and creative ideas so please join us with your <strong><u>MORNING BEVERAGE</u></strong> of choice!<br />\n&nbsp\;<br />\nLearn more about <a href="http://www.greaterorlandoba.com/sales-marketing-council">SMC</a> and its <a href="http://www.greaterorlandoba.com/smc-events">events</a>.
LOCATION:Email cherry@greaterorlandoba.com for Zoom Link.
UID:e.9318.6465
SEQUENCE:3
DTSTAMP:20260420T130925Z
URL:https://members.greaterorlandoba.com/events/details/smc-monthly-zoom-committee-meeting-nov-3-6465
END:VEVENT

END:VCALENDAR
