BEGIN:VCALENDAR
VERSION:2.0
PRODID:-//ChamberMaster//Event Calendar 2.0//EN
METHOD:PUBLISH
X-PUBLISHED-TTL:P3D
REFRESH-INTERVAL:P3D
CALSCALE:GREGORIAN
BEGIN:VEVENT
DTSTART:20201104T140000Z
DTEND:20201104T150000Z
X-MICROSOFT-CDO-ALLDAYEVENT:FALSE
SUMMARY:SMC November Meeting In-Person & Zoom - OPEN TO ALL GOBA
DESCRIPTION:If you're thinking of joining the Sales & Marketing Council - find out all about it!\n\nFind out about MAJORS\, Virtual Visits\, Quarterly Breakfasts and more!\n\nOpen to Sales & Marketing Council Members - come share your industry news\, exchange ideas with colleagues\, take part in events. Your feedback is welcome!\n\n\n\nWednesday\, Nov. 4\, 2020  /  9-10am / JOIN US...\n\nIn-Person Meeting at GOBA - 1953 Clayton Heritage Way\, Maitland\, FL 32751 - PLEASE WEAR MASKS\n\nor\n\nZoom In: email cherry@greaterorlandoba.com for Zoom Login
X-ALT-DESC;FMTTYPE=text/html:<span style="font-size:12px\;"><span style="font-family:tahoma\;"><strong>If you&#39\;re thinking of joining the Sales &amp\; Marketing Council - find out all about it!</strong><br />\nFind out about <strong>MAJORS\, Virtual Visits\, Quarterly Breakfasts </strong>and more!<br />\n<strong style="font-family: tahoma\; font-size: 12px\;">Open to Sales &amp\; Marketing Council Members</strong>&nbsp\;-&nbsp\;come share your industry news\, exchange ideas with colleagues\, take part in events. Your feedback is welcome!<br />\n<br />\n<strong>Wednesday\, Nov. 4\, 2020&nbsp\; /&nbsp\; 9-10am / JOIN US...<br />\n<span style="color:#FF0000\;">In-Person Meeting </span></strong>at GOBA - 1953 Clayton Heritage Way\, Maitland\, FL 32751 <strong>- PLEASE WEAR MASKS<br />\nor<br />\n<span style="color:#FF0000\;">Zoom In</span>: </strong>email <a href="mailto:cherry@greaterorlandoba.com?subject=SMC%20Nov.%20Mtg%20Zoom%20Link">cherry@greaterorlandoba.com</a> for Zoom Login</span></span>
LOCATION:Wednesday\, Nov. 4\, 2020 / 9-10am / JOIN US... In-Person Meeting at GOBA - 1953 Clayton Heritage Way\, Maitland\, FL 32751 - PLEASE WEAR MASKS or Zoom In: email cherry@greaterorlandoba.com for Zoom Login
UID:e.9318.6237
SEQUENCE:3
DTSTAMP:20260420T102618Z
URL:https://members.greaterorlandoba.com/events/details/smc-november-meeting-in-person-zoom-open-to-all-goba-6237
END:VEVENT

END:VCALENDAR
