BEGIN:VCALENDAR
VERSION:2.0
PRODID:-//ChamberMaster//Event Calendar 2.0//EN
METHOD:PUBLISH
X-PUBLISHED-TTL:P3D
REFRESH-INTERVAL:P3D
CALSCALE:GREGORIAN
BEGIN:VEVENT
DTSTART:20141212T230000Z
DTEND:20141212T170000Z
X-MICROSOFT-CDO-ALLDAYEVENT:FALSE
SUMMARY:Snowball Golf Tournament
DESCRIPTION:
X-ALT-DESC;FMTTYPE=text/html:
LOCATION:10350 Emerson Lake Blvd. Orlando\, FL 32832
UID:e.9318.606
SEQUENCE:3
DTSTAMP:20260423T182258Z
URL:https://members.greaterorlandoba.com/events/details/snowball-golf-tournament-12-12-2014-606
END:VEVENT

END:VCALENDAR
