BEGIN:VCALENDAR
VERSION:2.0
PRODID:-//ChamberMaster//Event Calendar 2.0//EN
METHOD:PUBLISH
X-PUBLISHED-TTL:P3D
REFRESH-INTERVAL:P3D
CALSCALE:GREGORIAN
BEGIN:VEVENT
DTSTART;VALUE=DATE:20170519
DTEND;VALUE=DATE:20170520
TRANSP:TRANSPARENT
X-MICROSOFT-CDO-ALLDAYEVENT:TRUE
SUMMARY:Spring Golf Advance Ticket Package Purchase
DESCRIPTION:Get ahead of the game and increase your team's chances of winning the tournament with the always popular\n\n \n\nGolfer Ticket Package:\n\n2 mulligans ($20 value)\n\nOne wing span raffle tickets ($20 value)\n\n2 shots at Putt for Cash ($10 value)\n\n1 move up ticket ($5 value)\n\nPackage Value: $55.00\n\nAdvance price: $25.00\n\nOn site price: $40.00\n\n \n\nSAVE YOUR CASH AT THE TOURNAMENT! \n\nPRE PURCHASE YOUR TICKET PACKAGE HERE!\n\n\n\nPRE- PURCHASED TICKET PACKAGES WILL BE PROVIDED AT REGISTRATION/ CHECK IN ON THE DAY OF THE TOURNAMENT
X-ALT-DESC;FMTTYPE=text/html:<div style="text-align: center\;"><span style="language:en-US\;"><span style="font-size:14.0pt\;">Get ahead of the game and increase your team&rsquo\;s chances of winning the tournament with the always popular</span></span><br />\n&nbsp\;<br />\n<span style="text-decoration:underline\;text-underline:single\;font-weight:bold\;language:en-US\;"><span style="font-size:16.0pt\;">Golfer Ticket Package:</span></span><br />\n<span style="language:en-US\;"><span style="font-size:14.0pt\;">2 mulligans ($20 value)</span></span><br />\n<span style="language:en-US\;"><span style="font-size:14.0pt\;">One wing span raffle tickets ($20 value)</span></span><br />\n<span style="language:en-US\;"><span style="font-size:14.0pt\;">2 shots at Putt for Cash ($10 value)</span></span><br />\n<span style="language:en-US\;"><span style="font-size:14.0pt\;">1 move up ticket ($5 value)</span></span><br />\n<span style="font-weight:bold\;language:en-US\;"><span style="font-size:16.0pt\;">Package Value: $55.00</span></span><br />\n<span style="color:#FF0000\;"><span style="font-weight:bold\;language:en-US\;"><span style="font-size:16.0pt\;">Advance price: $25.00</span></span></span><br />\n<span style="font-weight:bold\;language:en-US\;"><span style="font-size:16.0pt\;">On site price: $40.00</span></span><br />\n&nbsp\;<br />\n<span style="font-weight:bold\;language:en-US\;"><span style="font-size:14.0pt\;">SAVE YOUR CASH AT THE TOURNAMENT! </span></span><br />\n<span style="font-weight:bold\;language:en-US\;"><span style="font-size:14.0pt\;">PRE PURCHASE YOUR TICKET PACKAGE HERE!<br />\n<br />\n<em>PRE- PURCHASED TICKET PACKAGES WILL BE PROVIDED AT REGISTRATION/ CHECK IN ON THE DAY OF THE TOURNAMENT</em></span></span><br />\n&nbsp\;<br />\n<br />\n<br />\n&nbsp\;</div>\n
LOCATION:Orange County National- Crooked Cat Course
UID:e.9318.4655
SEQUENCE:3
DTSTAMP:20260421T221941Z
URL:https://members.greaterorlandoba.com/events/details/spring-golf-advance-ticket-package-purchase-4655
END:VEVENT

END:VCALENDAR
