BEGIN:VCALENDAR
VERSION:2.0
PRODID:-//ChamberMaster//Event Calendar 2.0//EN
METHOD:PUBLISH
X-PUBLISHED-TTL:P3D
REFRESH-INTERVAL:P3D
CALSCALE:GREGORIAN
BEGIN:VEVENT
DTSTART;VALUE=DATE:20150612
DTEND;VALUE=DATE:20150613
TRANSP:TRANSPARENT
X-MICROSOFT-CDO-ALLDAYEVENT:TRUE
SUMMARY:Spring Golf Tournament
DESCRIPTION:
X-ALT-DESC;FMTTYPE=text/html:
LOCATION:1518 Clubhouse Blvd. Davenport\, FL 33837
UID:e.9318.666
SEQUENCE:3
DTSTAMP:20260423T092538Z
URL:https://members.greaterorlandoba.com/events/details/spring-golf-tournament-06-12-2015-666
END:VEVENT

END:VCALENDAR
