BEGIN:VCALENDAR
VERSION:2.0
PRODID:-//ChamberMaster//Event Calendar 2.0//EN
METHOD:PUBLISH
X-PUBLISHED-TTL:P3D
REFRESH-INTERVAL:P3D
CALSCALE:GREGORIAN
BEGIN:VEVENT
DTSTART:20180517T190000Z
DTEND:20180517T230000Z
X-MICROSOFT-CDO-ALLDAYEVENT:FALSE
SUMMARY:Stone-Mart Orlando Day
DESCRIPTION:Please join us for the celebration of our Grand Opening of Stone-Mart Orlando. We will have great specials\, prizes\, live music\, hors d' oeuvres & beer and wine.
X-ALT-DESC;FMTTYPE=text/html:Please join us for the celebration of our Grand Opening of Stone-Mart Orlando. We will have great specials\, prizes\, live music\, hors d&#39\; oeuvres &amp\; beer and wine.
LOCATION:3815 Silver Star Road Orlando\, FL 32808
UID:e.9318.5405
SEQUENCE:3
DTSTAMP:20260419T210500Z
URL:https://members.greaterorlandoba.com/events/details/stone-mart-orlando-day-5405
END:VEVENT

END:VCALENDAR
