BEGIN:VCALENDAR
VERSION:2.0
PRODID:-//ChamberMaster//Event Calendar 2.0//EN
METHOD:PUBLISH
X-PUBLISHED-TTL:P3D
REFRESH-INTERVAL:P3D
CALSCALE:GREGORIAN
BEGIN:VEVENT
DTSTART:20181025T133000Z
DTEND:20181025T153000Z
X-MICROSOFT-CDO-ALLDAYEVENT:FALSE
SUMMARY:UPDATE: POSTPONED UNTIL EARLY 2019 Project Superintendent Training - General Site and SWPPP
DESCRIPTION:THE NEW SERIES OF THE SUPERINTENDENT TRAINING PROGRAM WILL COMMENCE IN EARLY 2019.  STAY TUNED FOR UPDATES ON THE NEW SCHEDULE OF COURSES FOR THE 2019 GOBA SUPERINTENDENT TRAINING PROGRAM.  For more information please email Ricardo Rodriguez by clicking on the link on the right of the page.
X-ALT-DESC;FMTTYPE=text/html:<h1><span style="font-size: 16px\;"><b>THE NEW SERIES OF THE SUPERINTENDENT TRAINING PROGRAM WILL COMMENCE IN EARLY 2019.&nbsp\; STAY TUNED FOR UPDATES ON THE NEW SCHEDULE OF COURSES&nbsp\;FOR THE 2019 GOBA SUPERINTENDENT TRAINING PROGRAM.&nbsp\; For more information please email Ricardo Rodriguez by clicking on the link on the right of the page.&nbsp\;</b></span></h1>\n
LOCATION:GOBA ODC Great Hall 1953 Clayton Heritage Way Maitland\, FL 32751
UID:e.9318.5451
SEQUENCE:3
DTSTAMP:20260420T050223Z
URL:https://members.greaterorlandoba.com/events/details/update-postponed-until-early-2019-project-superintendent-training-general-site-and-swppp-5451
END:VEVENT

END:VCALENDAR
