BEGIN:VCALENDAR
VERSION:2.0
PRODID:-//ChamberMaster//Event Calendar 2.0//EN
METHOD:PUBLISH
X-PUBLISHED-TTL:P3D
REFRESH-INTERVAL:P3D
CALSCALE:GREGORIAN
BEGIN:VEVENT
DTSTART:20170309T163000Z
DTEND:20170309T180000Z
X-MICROSOFT-CDO-ALLDAYEVENT:FALSE
SUMMARY:Valencia College's Construction Program
DESCRIPTION:**Registration required**\n\nLunch and Learn presentation of Valencia College's Construction program with program director Javier Rojas\, highlighting collaboration opportunities with GOBA members.\n\n\n\nAccording to the National Association of Home Builders\, unfilled jobs for the construction sector has been a rising trend in recent years. With more than a half-million net jobs added since the Great Recession\, builders cite the ability to fill those jobs with skilled workers as a top business challenge. Baby Boomers are retiring just as a construction boom is underway. Meanwhile\, tens of thousands of Central Floridians are unemployed. Through our Accelerated Skills Training programs\, Valencia College is filling that void by putting people to work.\n\n\n\nValencia's Construction Program responds to the needs of the industry by providing workforce training and education with successful best-in-class programming. We are able to achieve this through collaboration with and the support of Central Florida construction partners.
X-ALT-DESC;FMTTYPE=text/html:<span style="color:#FF0000\;">**Registration required**</span><br />\nLunch and Learn presentation of Valencia College&#39\;s Construction program with program director Javier Rojas\, highlighting collaboration opportunities with GOBA members.<br />\n<br />\nAccording to the National Association of Home Builders\, unfilled jobs for the construction sector has been a rising trend in recent years. With more than a half-million net jobs added since the Great Recession\, builders cite the ability to fill those jobs with skilled workers as a top business challenge. Baby Boomers are retiring just as a construction boom is underway. Meanwhile\, tens of thousands of Central Floridians are unemployed. Through our Accelerated Skills Training programs\, Valencia College is filling that void by putting people to work.<br />\n<br />\nValencia&rsquo\;s Construction Program responds to the needs of the industry by providing workforce training and education with successful best-in-class programming. We are able to achieve this through collaboration with and the support of Central Florida construction partners. &#8232\;<br />\n<br />\n&nbsp\;
LOCATION:GOBA Great Hall
UID:e.9318.4376
SEQUENCE:3
DTSTAMP:20260422T024103Z
URL:https://members.greaterorlandoba.com/events/details/valencia-college-s-construction-program-4376
END:VEVENT

END:VCALENDAR
