BEGIN:VCALENDAR
VERSION:2.0
PRODID:-//ChamberMaster//Event Calendar 2.0//EN
METHOD:PUBLISH
X-PUBLISHED-TTL:P3D
REFRESH-INTERVAL:P3D
CALSCALE:GREGORIAN
BEGIN:VEVENT
DTSTART:20200709T160000Z
DTEND:20200709T170000Z
X-MICROSOFT-CDO-ALLDAYEVENT:FALSE
SUMMARY:Virtual Government Affairs Committee Meeting
DESCRIPTION:Virtual GA Committee Meeting\n\n\n\nTo Join the Virtual meeting please use the following information.\n\n\n\nJoin Zoom Meeting\n\nhttps://us02web.zoom.us/j/89693259570?pwd=dVpRY08yOW1MZGF1UVNDRTBnM3NZdz09\n\n \n\nMeeting ID: 896 9325 9570\n\nPassword: 702849\n\n\n\nFor Dial in only please call in at: \n\n        +1 929 205 6099 US (New York)\n\n\n\nMeeting ID: 896 9325 9570\n\nPassword: 702849
X-ALT-DESC;FMTTYPE=text/html:Virtual GA Committee Meeting<br />\n<br />\nTo Join the Virtual meeting please use the following information.<br />\n<br />\nJoin Zoom Meeting<br />\n<a href="https://us02web.zoom.us/j/89693259570?pwd=dVpRY08yOW1MZGF1UVNDRTBnM3NZdz09">https://us02web.zoom.us/j/89693259570?pwd=dVpRY08yOW1MZGF1UVNDRTBnM3NZdz09</a><br />\n&nbsp\;<br />\nMeeting ID: 896 9325 9570<br />\nPassword: 702849<br />\n<br />\nFor Dial in only please call in at:&nbsp\;<br />\n&nbsp\;&nbsp\;&nbsp\;&nbsp\;&nbsp\;&nbsp\;&nbsp\; +1 929 205 6099 US (New York)<br />\n<br />\nMeeting ID: 896 9325 9570<br />\nPassword: 702849<br />\n<br />\n<br />\n&nbsp\;
LOCATION:GOBA Central Kitchen & Bath Boardroom 1953 Clayton Heritage Way Maitland\, FL 32751
UID:e.9318.4880
SEQUENCE:3
DTSTAMP:20260420T032551Z
URL:https://members.greaterorlandoba.com/events/details/virtual-government-affairs-committee-meeting-4880
END:VEVENT

END:VCALENDAR
